BEGIN:VCALENDAR
VERSION:2.0
PRODID:-//Tukios.com/
BEGIN:VEVENT
UID:a21e156f-507a-4059-8515-1ae1f7f3fa9e@www.whiddenmcleanfuneralhome.com
DTSTAMP:20260423T234552Z
DTSTART:20260427T150000Z
DTEND:20260427T160000Z
SUMMARY:Memorial Service
DESCRIPTION:
URL:https://www.whiddenmcleanfuneralhome.com/obituaries/laurene-benton
LOCATION:First Presbyterian Church of Bartow 2050 South Broadway Avenue  
	Bartow FL 33830
GEO:27.8743922;-81.8428054
END:VEVENT
END:VCALENDAR