BEGIN:VCALENDAR
VERSION:2.0
PRODID:-//Tukios.com/
BEGIN:VEVENT
UID:4d461cc3-178a-454d-97dd-3c5179f247cd@www.whiddenmcleanfuneralhome.com
DTSTAMP:20260422T102320Z
DTSTART:20260502T150000Z
DTEND:20260502T160000Z
SUMMARY:Memorial Service
DESCRIPTION:
URL:https://www.whiddenmcleanfuneralhome.com/obituaries/john-dowdy
LOCATION:Whidden-McLean Funeral Home 650 E. Main Street  Bartow FL 33830
GEO:27.8967257;-81.8386824
END:VEVENT
END:VCALENDAR