BEGIN:VCALENDAR
VERSION:2.0
PRODID:-//Tukios.com/
BEGIN:VEVENT
UID:75f72ea8-cc5f-4f58-87f0-343a71cb6f90@www.whiddenmcleanfuneralhome.com
DTSTAMP:20260422T102630Z
DTSTART:20260502T140000Z
DTEND:20260502T150000Z
SUMMARY:Visitation
DESCRIPTION:
URL:https://www.whiddenmcleanfuneralhome.com/obituaries/john-dowdy
LOCATION:Whidden-McLean Funeral Home 650 E. Main Street  Bartow FL 33830
GEO:27.8967257;-81.8386824
END:VEVENT
END:VCALENDAR